BEGIN:VCALENDAR
METHOD:PUBLISH
VERSION:2.0
CALSCALE:GREGORIAN
PRODID:-//NONSGML WPForms//NONSGML Sugar Calendar Feeds v3.11.0//EN
X-WR-CALNAME:Book-of-Revelation-Vid-Ser
X-WR-CALDESC:Gateway Baptist Church
X-WR-TIMEZONE:America/New_York
BEGIN:VTIMEZONE
TZID:America/New_York
BEGIN:STANDARD
TZOFFSETFROM:-0400
TZOFFSETTO:-0500
DTSTART:20251102T060000
TZNAME:EST
END:STANDARD
BEGIN:DAYLIGHT
TZOFFSETFROM:-0500
TZOFFSETTO:-0400
DTSTART:20260308T070000
TZNAME:EDT
END:DAYLIGHT
END:VTIMEZONE
BEGIN:VTIMEZONE
TZID:America/New_York
BEGIN:STANDARD
TZOFFSETFROM:-0400
TZOFFSETTO:-0500
DTSTART:20251102T060000
TZNAME:EST
END:STANDARD
BEGIN:DAYLIGHT
TZOFFSETFROM:-0500
TZOFFSETTO:-0400
DTSTART:20260308T070000
TZNAME:EDT
END:DAYLIGHT
END:VTIMEZONE
BEGIN:VEVENT
SUMMARY:Book of Revelation Vid Ser
DESCRIPTION:Video series on the Book of Revelation
URL;VALUE=URI:https://gbcworship.com/sc_recurring_event/book-of-revelati
 on-vid-ser/
UID:urn:uuid:854cb1c0-003d-41d4-93da-2c3bb8f06cdd
STATUS:CONFIRMED
ORGANIZER:
DTSTAMP:20260419T145306Z
DTSTART;TZID=America/New_York:20260419T180000
DTEND;TZID=America/New_York:20260419T183000
RRULE:FREQ=WEEKLY;INTERVAL=1;COUNT=10
END:VEVENT
END:VCALENDAR